BEGIN:VCALENDAR
VERSION:2.0
PRODID:-//communityfoodinitiatives.org//NONSGML kigkonsult.se iCalcreator 2
 .30.10//
CALSCALE:GREGORIAN
METHOD:PUBLISH
UID:a877513f-7b7e-4023-be1a-bffe8afc3afd
X-WR-CALDESC:Community Food Initiatives hosts garden giveaways every year a
 s part of their mission to increase regional food security by supporting e
 quitable access to healthy\, locally grown food. Recipients are invited to
  join the Grow and Share Team by sharing a portion of your harvest with th
 e Donation Station. CFI will have planting instructions available at the g
 iveaway. \n\n\nThe plant start giveaway is supported in part by Jackson Ar
 ea Ministries\, an organization based in Jackson\, OH\, that coordinates a
  large donation of tomato plant starts.  Other generous donors and support
 ers that make this event possible include United Plant Savers\, Companion 
 Plants\, Echoing Connections\, the OHIO Student Farm\, many community Plan
 t Parents\, and ACEnet.  If you have plant starts you would like to donate
  to CFI\, please call 740-593-5971.    \n\n\nCFI’s programs include the Do
 nation Station\, School Gardens\, Community Gardens\, Veggie Van\, and Nou
 rishing Networks community training and support. These initiatives support
  an equitable local food system that is good for people\, planet\, and our
  economy.  CFI programs and community collaborations work toward a resilie
 nt and sustainable region where everyone is nourished by a just\, inclusiv
 e\, and thriving local food system. For opportunities to get involved plea
 se email cfi@communityfoodinitiatives.org. 
X-WR-RELCALID:808b0ec7eba961d573227e0e26af7108
X-WR-TIMEZONE:America/New_York
BEGIN:VTIMEZONE
TZID:America/New_York
BEGIN:STANDARD
TZNAME:EST
DTSTART:20231105T020000
TZOFFSETFROM:-0400
TZOFFSETTO:-0500
RDATE:20241103T020000
RDATE:20251102T020000
END:STANDARD
BEGIN:DAYLIGHT
TZNAME:EDT
DTSTART:20240310T020000
TZOFFSETFROM:-0500
TZOFFSETTO:-0400
RDATE:20250309T020000
END:DAYLIGHT
END:VTIMEZONE
BEGIN:VEVENT
UID:08f15eeb-38d6-4323-8735-05a3fe330414
DTSTAMP:20260424T094009Z
DESCRIPTION:Community Food Initiatives hosts garden giveaways every year as
  part of their mission to increase regional food security by supporting eq
 uitable access to healthy\, locally grown food. Recipients are invited to 
 join the Grow and Share Team by sharing a portion of your harvest with the
  Donation Station. CFI will have planting instructions available at the gi
 veaway. \n\n\nThe plant start giveaway is supported in part by Jackson Are
 a Ministries\, an organization based in Jackson\, OH\, that coordinates a 
 large donation of tomato plant starts.  Other generous donors and supporte
 rs that make this event possible include United Plant Savers\, Companion P
 lants\, Echoing Connections\, the OHIO Student Farm\, many community Plant
  Parents\, and ACEnet.  If you have plant starts you would like to donate 
 to CFI\, please call 740-593-5971.    \n\n\nCFI’s programs include the Don
 ation Station\, School Gardens\, Community Gardens\, Veggie Van\, and Nour
 ishing Networks community training and support. These initiatives support 
 an equitable local food system that is good for people\, planet\, and our 
 economy.  CFI programs and community collaborations work toward a resilien
 t and sustainable region where everyone is nourished by a just\, inclusive
 \, and thriving local food system. For opportunities to get involved pleas
 e email cfi@communityfoodinitiatives.org. 
DTSTART;TZID=America/New_York:20240515T170000
DTEND;TZID=America/New_York:20240515T190000
LOCATION:94 Columbus Rd\, Athens ACEnet\, Athens \, OH 45701 US
SUMMARY:Plant Start Giveaway
END:VEVENT
END:VCALENDAR
