BEGIN:VCALENDAR
VERSION:2.0
PRODID:-//communityfoodinitiatives.org//NONSGML kigkonsult.se iCalcreator 2
 .30.10//
CALSCALE:GREGORIAN
METHOD:PUBLISH
UID:31dfc863-79d3-466b-afb8-fb52c77ddddb
X-WR-CALDESC:Ohio's largest sustainable agriculture conference is happening
  February 15-17\, 2024\, in Newark\, Ohio! The 45th annual OEFFA conferenc
 e is three days full of live learning\, shopping\, sharing\, and connectin
 g with sustainable farmers\, gardeners\, and local food supporters:\n60+ w
 orkshops on sustainable farming\, livestock\, homesteading\, gardening\, a
 nd businesses\nExhibit hall with dozens of businesses\, nonprofits\, and p
 roducts\nWelcoming happy hour and keynote panel\nDedicated spaces for BIPO
 C farmers\, queer farmers\, landseekers and landowners\, and more to conne
 ct and share\nLocally-sourced meals\, a film screening\, meetups\, a raffl
 e\, and much more!\n\nOnline registration closes February 1. Learn more an
 d register at conference.oeffa.org.
X-WR-RELCALID:ac7a1c4081e37a9c9978a941f74ecb62
X-WR-TIMEZONE:America/New_York
BEGIN:VTIMEZONE
TZID:America/New_York
BEGIN:STANDARD
TZNAME:EST
DTSTART:20231105T020000
TZOFFSETFROM:-0400
TZOFFSETTO:-0500
RDATE:20241103T020000
END:STANDARD
BEGIN:DAYLIGHT
TZNAME:EDT
DTSTART:20230312T020000
TZOFFSETFROM:-0500
TZOFFSETTO:-0400
RDATE:20240310T020000
RDATE:20250309T020000
END:DAYLIGHT
END:VTIMEZONE
BEGIN:VEVENT
UID:29bf869d-3836-430c-a951-0d5012e01d53
DTSTAMP:20260424T113525Z
DESCRIPTION:Ohio's largest sustainable agriculture conference is happening 
 February 15-17\, 2024\, in Newark\, Ohio! The 45th annual OEFFA conference
  is three days full of live learning\, shopping\, sharing\, and connecting
  with sustainable farmers\, gardeners\, and local food supporters:\n60+ wo
 rkshops on sustainable farming\, livestock\, homesteading\, gardening\, an
 d businesses\nExhibit hall with dozens of businesses\, nonprofits\, and pr
 oducts\nWelcoming happy hour and keynote panel\nDedicated spaces for BIPOC
  farmers\, queer farmers\, landseekers and landowners\, and more to connec
 t and share\nLocally-sourced meals\, a film screening\, meetups\, a raffle
 \, and much more!\n\nOnline registration closes February 1. Learn more and
  register at conference.oeffa.org.
DTSTART;TZID=America/New_York:20240216T080000
DTEND;TZID=America/New_York:20240216T190000
LOCATION:Cherry Valley Hotel and Ohio Event Center 2299 Cherry Valley Rd. S
 E\, Newark\, Ohio 43055
SUMMARY:2024 OEFFA conference (CFI attending)
END:VEVENT
END:VCALENDAR
