BEGIN:VCALENDAR
VERSION:2.0
PRODID:-//communityfoodinitiatives.org//NONSGML kigkonsult.se iCalcreator 2
 .30.10//
CALSCALE:GREGORIAN
METHOD:PUBLISH
UID:c22aa3ba-e6e3-4834-a953-e4493d2b883f
X-WR-CALDESC:The Veggie Van is a donation-based farm stand that carries sea
 sonal\, locally-grown fruits and veggies to rural communities in Southeast
 ern Ohio.  In order to provide equitable access to the fresh\, local\, foo
 d Veggie Van carries\, we invite customers pay whatever they're able.  Fir
 mly based in our vision for a thriving and just local food system\, the Ve
 ggie Van offers locally-grown produce in exchange for any level of donatio
 n.
X-WR-RELCALID:5703494769fa1cc2c7db3906a532e029
X-WR-TIMEZONE:America/New_York
BEGIN:VTIMEZONE
TZID:America/New_York
BEGIN:STANDARD
TZNAME:EST
DTSTART:20211107T020000
TZOFFSETFROM:-0400
TZOFFSETTO:-0500
RDATE:20221106T020000
RDATE:20231105T020000
END:STANDARD
BEGIN:DAYLIGHT
TZNAME:EDT
DTSTART:20220313T020000
TZOFFSETFROM:-0500
TZOFFSETTO:-0400
RDATE:20230312T020000
RDATE:20240310T020000
END:DAYLIGHT
END:VTIMEZONE
BEGIN:VEVENT
UID:25929776-96c2-4c93-bc3d-45fab08fd7cd
DTSTAMP:20260424T232937Z
DESCRIPTION:The Veggie Van is a donation-based farm stand that carries seas
 onal\, locally-grown fruits and veggies to rural communities in Southeaste
 rn Ohio.  In order to provide equitable access to the fresh\, local\, food
  Veggie Van carries\, we invite customers pay whatever they're able.  Firm
 ly based in our vision for a thriving and just local food system\, the Veg
 gie Van offers locally-grown produce in exchange for any level of donation
 .
DTSTART;TZID=America/New_York:20221028T153000
DTEND;TZID=America/New_York:20221028T173000
LOCATION:Glouster Memorial Park\, Glouster\, Ohio
SUMMARY:Veggie Van
END:VEVENT
END:VCALENDAR
