BEGIN:VCALENDAR
VERSION:2.0
PRODID:-//communityfoodinitiatives.org//NONSGML kigkonsult.se iCalcreator 2
 .30.10//
CALSCALE:GREGORIAN
METHOD:PUBLISH
UID:88c46e1e-7216-4439-9a6b-36ea4f055e2b
X-WR-CALDESC:CFI will be offering a craft at the annual Indian Mound Festiv
 al in The Plains.  Great for kids or adults!  Stop by the new shelter hous
 e at the festival any time 2pm-4pm on Saturday and make an ornament/neckla
 ce using seeds!
X-WR-RELCALID:c8fee571448e615c700d4ef043f162b0
X-WR-TIMEZONE:America/New_York
BEGIN:VTIMEZONE
TZID:America/New_York
BEGIN:STANDARD
TZNAME:EST
DTSTART:20211107T020000
TZOFFSETFROM:-0400
TZOFFSETTO:-0500
RDATE:20221106T020000
RDATE:20231105T020000
END:STANDARD
BEGIN:DAYLIGHT
TZNAME:EDT
DTSTART:20220313T020000
TZOFFSETFROM:-0500
TZOFFSETTO:-0400
RDATE:20230312T020000
RDATE:20240310T020000
END:DAYLIGHT
END:VTIMEZONE
BEGIN:VEVENT
UID:968ee988-5ae3-4fe5-b932-9f7f0379f606
DTSTAMP:20260424T082743Z
DESCRIPTION:CFI will be offering a craft at the annual Indian Mound Festiva
 l in The Plains.  Great for kids or adults!  Stop by the new shelter house
  at the festival any time 2pm-4pm on Saturday and make an ornament/necklac
 e using seeds!
DTSTART;TZID=America/New_York:20221008T140000
DTEND;TZID=America/New_York:20221008T160000
LOCATION:The Plains Indian Mound Festival
SUMMARY:CFI craft at The Plains Indian Mound Festival
END:VEVENT
END:VCALENDAR
