BEGIN:VCALENDAR
VERSION:2.0
PRODID:-//communityfoodinitiatives.org//NONSGML kigkonsult.se iCalcreator 2
 .30.10//
CALSCALE:GREGORIAN
METHOD:PUBLISH
UID:29c3ccf4-8f7f-420b-b41e-ca776bc5fc98
X-WR-CALDESC:Join CFI and other community gardeners to tend your garden plo
 t or help with Donation Station plots!  Please wear close-toed shoes and b
 ring water.  If you have your own garden gloves or other small tools\, fee
 l free to bring those as well.
X-WR-RELCALID:16056da737df4569e44ef6ce9ef88422
X-WR-TIMEZONE:America/New_York
BEGIN:VTIMEZONE
TZID:America/New_York
BEGIN:STANDARD
TZNAME:EST
DTSTART:20211107T020000
TZOFFSETFROM:-0400
TZOFFSETTO:-0500
RDATE:20221106T020000
RDATE:20231105T020000
END:STANDARD
BEGIN:DAYLIGHT
TZNAME:EDT
DTSTART:20220313T020000
TZOFFSETFROM:-0500
TZOFFSETTO:-0400
RDATE:20230312T020000
RDATE:20240310T020000
END:DAYLIGHT
END:VTIMEZONE
BEGIN:VEVENT
UID:544e6dd1-bdc6-46aa-8337-42ad2b3013b6
DTSTAMP:20260424T092611Z
DESCRIPTION:Join CFI and other community gardeners to tend your garden plot
  or help with Donation Station plots!  Please wear close-toed shoes and br
 ing water.  If you have your own garden gloves or other small tools\, feel
  free to bring those as well.
DTSTART;TZID=America/New_York:20220921T090000
DTEND;TZID=America/New_York:20220921T110000
LOCATION:Eastside Community Garden (near the Athens Community Center)
SUMMARY:Eastside Community Garden Work Party
END:VEVENT
END:VCALENDAR
