BEGIN:VCALENDAR
VERSION:2.0
PRODID:-//communityfoodinitiatives.org//NONSGML kigkonsult.se iCalcreator 2
 .30.10//
CALSCALE:GREGORIAN
METHOD:PUBLISH
UID:573a0152-6ce6-4793-8a0f-cd66b9cc30f0
X-WR-CALDESC:In partnership with the Athens County Convention and Visitors 
  Bureau and sponsored by Tri-County Career Center and River Willow Culinar
 y\, the Taste of  Athens County Food Festival will celebrate Athens’ local
  food and drink including restaurants\, bars\, chefs\, vendors\,  cooking 
 demonstrations\, live music\, and kids activities.  All profits from Taste
  of Athens County will be donated to CFI.  The first-time event will be ho
 sted on a closed section of the uptown bricks of West State Street  right 
 off Court Street in Athens\, Ohio. The entire block from the J Bar to the 
 Southeast Ohio  History Center will be shut down for festival.
X-WR-RELCALID:e6cccf13a4be46ec8ea828d15848bb92
X-WR-TIMEZONE:America/New_York
BEGIN:VTIMEZONE
TZID:America/New_York
BEGIN:STANDARD
TZNAME:EST
DTSTART:20211107T020000
TZOFFSETFROM:-0400
TZOFFSETTO:-0500
RDATE:20221106T020000
RDATE:20231105T020000
END:STANDARD
BEGIN:DAYLIGHT
TZNAME:EDT
DTSTART:20220313T020000
TZOFFSETFROM:-0500
TZOFFSETTO:-0400
RDATE:20230312T020000
END:DAYLIGHT
END:VTIMEZONE
BEGIN:VEVENT
UID:ecb1e3ca-8066-4c17-a8af-1ec7ef12ef39
DTSTAMP:20260422T094724Z
DESCRIPTION:In partnership with the Athens County Convention and Visitors  
 Bureau and sponsored by Tri-County Career Center and River Willow Culinary
 \, the Taste of  Athens County Food Festival will celebrate Athens’ local 
 food and drink including restaurants\, bars\, chefs\, vendors\,  cooking d
 emonstrations\, live music\, and kids activities.  All profits from Taste 
 of Athens County will be donated to CFI.  The first-time event will be hos
 ted on a closed section of the uptown bricks of West State Street  right o
 ff Court Street in Athens\, Ohio. The entire block from the J Bar to the S
 outheast Ohio  History Center will be shut down for festival.
DTSTART;TZID=America/New_York:20220514T140000
DTEND;TZID=America/New_York:20220514T210000
LOCATION:West State Street\, Athens\, OH
SUMMARY:Taste of Athens County Food Festival
END:VEVENT
END:VCALENDAR
