BEGIN:VCALENDAR
VERSION:2.0
PRODID:-//communityfoodinitiatives.org//NONSGML kigkonsult.se iCalcreator 2
 .30.10//
CALSCALE:GREGORIAN
METHOD:PUBLISH
UID:dabe9231-6bc7-463e-a4ff-032a101f213e
X-WR-CALDESC:Join CFI and other community gardeners to tend your garden plo
 t or help with Donation Station plots!  Please wear close-toed shoes and b
 ring water.  If you have your own garden gloves or other small tools\, fee
 l free to bring those as well.
X-WR-RELCALID:36deda0f12ef31e8313e89f2c8b36bcd
X-WR-TIMEZONE:America/New_York
BEGIN:VTIMEZONE
TZID:America/New_York
BEGIN:STANDARD
TZNAME:EST
DTSTART:20211107T020000
TZOFFSETFROM:-0400
TZOFFSETTO:-0500
RDATE:20221106T020000
END:STANDARD
BEGIN:DAYLIGHT
TZNAME:EDT
DTSTART:20220313T020000
TZOFFSETFROM:-0500
TZOFFSETTO:-0400
RDATE:20230312T020000
END:DAYLIGHT
END:VTIMEZONE
BEGIN:VEVENT
UID:d1453fb9-8613-4453-a6e9-c8efdebee8d5
DTSTAMP:20260425T155753Z
DESCRIPTION:Join CFI and other community gardeners to tend your garden plot
  or help with Donation Station plots!  Please wear close-toed shoes and br
 ing water.  If you have your own garden gloves or other small tools\, feel
  free to bring those as well.
DTSTART;TZID=America/New_York:20220504T090000
DTEND;TZID=America/New_York:20220504T110000
LOCATION:Eastside Community Garden (near the Athens Community Center)
SUMMARY:Eastside Community Garden Work Party
END:VEVENT
END:VCALENDAR
