BEGIN:VCALENDAR
VERSION:2.0
PRODID:-//communityfoodinitiatives.org//NONSGML kigkonsult.se iCalcreator 2
 .30.10//
CALSCALE:GREGORIAN
METHOD:PUBLISH
UID:f010ce7c-9f8e-4a55-9127-b10131c5366b
X-WR-CALDESC:The Veggie Van is a donation-based farm stand that carries loc
 ally-grown fruits and veggies to rural communities in Southeastern Ohio\, 
 10 months out of the year.   In 2020\, Community Food Initiatives piloted 
 the Veggie Van in Glouster\, Ohio\; in 2021\, Veggie Van has expanded to s
 erve Coolville and Nelsonville weekly\, with periodic pop-up markets in ot
 her small\, rural communities.   All unsold produce is distributed to our 
 food pantry partners\, and all donations support food purchase and distrib
 ution.  This model supports our local farmers while also ensuring that fre
 sh\, local fruits and veggies are accessible for all.  Join us!
X-WR-RELCALID:482cd6effd6020585215c09e8b9dc9c1
X-WR-TIMEZONE:America/New_York
BEGIN:VTIMEZONE
TZID:America/New_York
BEGIN:STANDARD
TZNAME:EST
DTSTART:20201101T020000
TZOFFSETFROM:-0400
TZOFFSETTO:-0500
RDATE:20211107T020000
RDATE:20221106T020000
END:STANDARD
BEGIN:DAYLIGHT
TZNAME:EDT
DTSTART:20210314T020000
TZOFFSETFROM:-0500
TZOFFSETTO:-0400
RDATE:20220313T020000
RDATE:20230312T020000
END:DAYLIGHT
END:VTIMEZONE
BEGIN:VEVENT
UID:072bce43-bd33-4b22-b3eb-6c19f7f212b1
DTSTAMP:20260423T162945Z
DESCRIPTION:The Veggie Van is a donation-based farm stand that carries loca
 lly-grown fruits and veggies to rural communities in Southeastern Ohio\, 1
 0 months out of the year.   In 2020\, Community Food Initiatives piloted t
 he Veggie Van in Glouster\, Ohio\; in 2021\, Veggie Van has expanded to se
 rve Coolville and Nelsonville weekly\, with periodic pop-up markets in oth
 er small\, rural communities.   All unsold produce is distributed to our f
 ood pantry partners\, and all donations support food purchase and distribu
 tion.  This model supports our local farmers while also ensuring that fres
 h\, local fruits and veggies are accessible for all.  Join us!
DTSTART;TZID=America/New_York:20211008T153000
DTEND;TZID=America/New_York:20211008T173000
LOCATION:Glouster Memorial Park\, Glouster\, Ohio
SUMMARY:Glouster Veggie Van
END:VEVENT
END:VCALENDAR
