BEGIN:VCALENDAR
VERSION:2.0
PRODID:-//communityfoodinitiatives.org//NONSGML kigkonsult.se iCalcreator 2
 .30.10//
CALSCALE:GREGORIAN
METHOD:PUBLISH
UID:557e44f5-234a-42d1-ac92-b002910fad90
X-WR-CALDESC:Gardeners are invited to drop by to swap seeds and meet up wit
 h other gardeners. CFI will also have seeds on-hand along with information
  on how to become a volunteer plant parent (for CFI’s May plant start give
 away) and how to sign up for a community garden plot.
X-WR-RELCALID:5476ce8e1ffc8f6818ac85a0bb2031e2
X-WR-TIMEZONE:America/New_York
BEGIN:VTIMEZONE
TZID:America/New_York
BEGIN:STANDARD
TZNAME:EST
DTSTART:20231105T020000
TZOFFSETFROM:-0400
TZOFFSETTO:-0500
RDATE:20241103T020000
END:STANDARD
BEGIN:DAYLIGHT
TZNAME:EDT
DTSTART:20230312T020000
TZOFFSETFROM:-0500
TZOFFSETTO:-0400
RDATE:20240310T020000
RDATE:20250309T020000
END:DAYLIGHT
END:VTIMEZONE
BEGIN:VEVENT
UID:509448bc-3201-4474-bee3-809d16bea3b2
DTSTAMP:20260423T201809Z
DESCRIPTION:Gardeners are invited to drop by to swap seeds and meet up with
  other gardeners. CFI will also have seeds on-hand along with information 
 on how to become a volunteer plant parent (for CFI’s May plant start givea
 way) and how to sign up for a community garden plot.
DTSTART;TZID=America/New_York:20240127T123000
DTEND;TZID=America/New_York:20240127T140000
LOCATION:Athens Public Library\, 30 Home Street\, Athens\, OH
SUMMARY:Community Seed Swap
END:VEVENT
END:VCALENDAR
