BEGIN:VCALENDAR
VERSION:2.0
PRODID:-//communityfoodinitiatives.org//NONSGML kigkonsult.se iCalcreator 2
 .30.10//
CALSCALE:GREGORIAN
METHOD:PUBLISH
UID:46b1e653-9225-413c-a0f2-8e433aea558c
X-WR-CALDESC:We'll meet in the South Community Garden at Carriage Hill Apar
 tments and do whatever there is to be done!  Tasks generally include weedi
 ng\, harvesting\, planting\, and spreading compost/mulch.  PLEASE NOTE:  G
 arden schedules change often!  PLEASE REACH OUT TO COMMUNITY GARDENS COORD
 INATOR AMY FUGIKAWA TO CONFIRM DAY/TIME OF GARDEN WORK PARTIES.
X-WR-RELCALID:548525d85bf4251eac38af064eba48d0
X-WR-TIMEZONE:America/New_York
BEGIN:VTIMEZONE
TZID:America/New_York
BEGIN:STANDARD
TZNAME:EST
DTSTART:20221106T020000
TZOFFSETFROM:-0400
TZOFFSETTO:-0500
RDATE:20231105T020000
RDATE:20241103T020000
END:STANDARD
BEGIN:DAYLIGHT
TZNAME:EDT
DTSTART:20230312T020000
TZOFFSETFROM:-0500
TZOFFSETTO:-0400
RDATE:20240310T020000
RDATE:20250309T020000
END:DAYLIGHT
END:VTIMEZONE
BEGIN:VEVENT
UID:a87955e8-25e2-4092-a077-8be3e599e0db
DTSTAMP:20260423T173428Z
DESCRIPTION:We'll meet in the South Community Garden at Carriage Hill Apart
 ments and do whatever there is to be done!  Tasks generally include weedin
 g\, harvesting\, planting\, and spreading compost/mulch.  PLEASE NOTE:  Ga
 rden schedules change often!  PLEASE REACH OUT TO COMMUNITY GARDENS COORDI
 NATOR AMY FUGIKAWA TO CONFIRM DAY/TIME OF GARDEN WORK PARTIES.
DTSTART;TZID=America/New_York:20231106T163000
DTEND;TZID=America/New_York:20231106T183000
LOCATION:Southside Community Garden
SUMMARY:Southside Community Garden Work Party
END:VEVENT
END:VCALENDAR
