BEGIN:VCALENDAR
VERSION:2.0
PRODID:-//communityfoodinitiatives.org//NONSGML kigkonsult.se iCalcreator 2
 .30.10//
CALSCALE:GREGORIAN
METHOD:PUBLISH
UID:90932b0a-be60-467a-ad7d-1cdec7b8e4ae
X-WR-CALDESC:We'll meet in the South Community Garden at Carriage Hill Apar
 tments and do whatever there is to be done!  Tasks generally include weedi
 ng\, harvesting\, planting\, and spreading compost/mulch.  PLEASE NOTE:  G
 arden schedules change often!  PLEASE REACH OUT TO COMMUNITY GARDENS COORD
 INATOR AMY FUGIKAWA TO CONFIRM DAY/TIME OF GARDEN WORK PARTIES.
X-WR-RELCALID:6925350fa28f2ab8d4a2a0a5d29825dc
X-WR-TIMEZONE:America/New_York
BEGIN:VTIMEZONE
TZID:America/New_York
BEGIN:STANDARD
TZNAME:EST
DTSTART:20221106T020000
TZOFFSETFROM:-0400
TZOFFSETTO:-0500
RDATE:20231105T020000
RDATE:20241103T020000
END:STANDARD
BEGIN:DAYLIGHT
TZNAME:EDT
DTSTART:20230312T020000
TZOFFSETFROM:-0500
TZOFFSETTO:-0400
RDATE:20240310T020000
RDATE:20250309T020000
END:DAYLIGHT
END:VTIMEZONE
BEGIN:VEVENT
UID:ba2a7b28-c1e7-40e0-b0f8-2db3dcacf279
DTSTAMP:20260423T161200Z
DESCRIPTION:We'll meet in the South Community Garden at Carriage Hill Apart
 ments and do whatever there is to be done!  Tasks generally include weedin
 g\, harvesting\, planting\, and spreading compost/mulch.  PLEASE NOTE:  Ga
 rden schedules change often!  PLEASE REACH OUT TO COMMUNITY GARDENS COORDI
 NATOR AMY FUGIKAWA TO CONFIRM DAY/TIME OF GARDEN WORK PARTIES.
DTSTART;TZID=America/New_York:20231030T163000
DTEND;TZID=America/New_York:20231030T183000
LOCATION:Southside Community Garden
SUMMARY:Southside Community Garden Work Party
END:VEVENT
END:VCALENDAR
