BEGIN:VCALENDAR
VERSION:2.0
PRODID:-//communityfoodinitiatives.org//NONSGML kigkonsult.se iCalcreator 2
 .30.10//
CALSCALE:GREGORIAN
METHOD:PUBLISH
UID:92579b70-95f1-49a3-937f-f23d8c1d66fc
X-WR-CALDESC:We'll work together on community garden maintenance\, which mi
 ght include weeding\, watering\, planting\, harvesting\, or spreading mulc
 h/compost.
X-WR-RELCALID:a208dc98d184d6b7360c786e35c9025a
X-WR-TIMEZONE:America/New_York
BEGIN:VTIMEZONE
TZID:America/New_York
BEGIN:STANDARD
TZNAME:EST
DTSTART:20221106T020000
TZOFFSETFROM:-0400
TZOFFSETTO:-0500
RDATE:20231105T020000
RDATE:20241103T020000
END:STANDARD
BEGIN:DAYLIGHT
TZNAME:EDT
DTSTART:20230312T020000
TZOFFSETFROM:-0500
TZOFFSETTO:-0400
RDATE:20240310T020000
RDATE:20250309T020000
END:DAYLIGHT
END:VTIMEZONE
BEGIN:VEVENT
UID:9c1ecbe9-f8b4-4095-adcc-99514b138811
DTSTAMP:20260423T161413Z
DESCRIPTION:We'll work together on community garden maintenance\, which mig
 ht include weeding\, watering\, planting\, harvesting\, or spreading mulch
 /compost.
DTSTART;TZID=America/New_York:20231024T163000
DTEND;TZID=America/New_York:20231024T183000
LOCATION:Nelsonville Community Garden\, 1950 Mt St Mary's Drive\, Nelsonvil
 le\, OH
SUMMARY:Nelsonville Community Garden Work Party
END:VEVENT
END:VCALENDAR
