BEGIN:VCALENDAR
VERSION:2.0
PRODID:-//communityfoodinitiatives.org//NONSGML kigkonsult.se iCalcreator 2
 .30.10//
CALSCALE:GREGORIAN
METHOD:PUBLISH
UID:f08b6773-aa09-4176-ad73-df18416858d7
X-WR-CALDESC:We'll meet in the South Community Garden at Carriage Hill Apar
 tments and do whatever there is to be done!  Tasks generally include weedi
 ng\, harvesting\, planting\, and spreading compost/mulch.  PLEASE NOTE:  G
 arden schedules change often!  PLEASE REACH OUT TO COMMUNITY GARDENS COORD
 INATOR AMY FUGIKAWA TO CONFIRM DAY/TIME OF GARDEN WORK PARTIES.
X-WR-RELCALID:72110e00bc91717caea6be000e5178e3
X-WR-TIMEZONE:America/New_York
BEGIN:VTIMEZONE
TZID:America/New_York
BEGIN:STANDARD
TZNAME:EST
DTSTART:20221106T020000
TZOFFSETFROM:-0400
TZOFFSETTO:-0500
RDATE:20231105T020000
RDATE:20241103T020000
END:STANDARD
BEGIN:DAYLIGHT
TZNAME:EDT
DTSTART:20230312T020000
TZOFFSETFROM:-0500
TZOFFSETTO:-0400
RDATE:20240310T020000
RDATE:20250309T020000
END:DAYLIGHT
END:VTIMEZONE
BEGIN:VEVENT
UID:f29b4d7a-3be9-4d71-aa7b-952457bb10ab
DTSTAMP:20260423T161246Z
DESCRIPTION:We'll meet in the South Community Garden at Carriage Hill Apart
 ments and do whatever there is to be done!  Tasks generally include weedin
 g\, harvesting\, planting\, and spreading compost/mulch.  PLEASE NOTE:  Ga
 rden schedules change often!  PLEASE REACH OUT TO COMMUNITY GARDENS COORDI
 NATOR AMY FUGIKAWA TO CONFIRM DAY/TIME OF GARDEN WORK PARTIES.
DTSTART;TZID=America/New_York:20231023T163000
DTEND;TZID=America/New_York:20231023T183000
LOCATION:Southside Community Garden
SUMMARY:Southside Community Garden Work Party
END:VEVENT
END:VCALENDAR
