BEGIN:VCALENDAR
VERSION:2.0
PRODID:-//communityfoodinitiatives.org//NONSGML kigkonsult.se iCalcreator 2
 .30.10//
CALSCALE:GREGORIAN
METHOD:PUBLISH
UID:84b817f3-4556-4226-850a-d915ea38555f
X-WR-CALDESC:Please join us for Art in the Garden!  Local author and artist
  Katherine Ziff will lead us in blind contour drawing with plants.  Blind 
 contour drawing is a mindful practice of “being rather than doing.” Paper 
 and drawing utensils provided\, but feel free to bring your own.  Dress fo
 r the weather.  All are welcome!  No art background necessary.
X-WR-RELCALID:254f6b9e3cba2a6e2d1c511d83fcac21
X-WR-TIMEZONE:America/New_York
BEGIN:VTIMEZONE
TZID:America/New_York
BEGIN:STANDARD
TZNAME:EST
DTSTART:20221106T020000
TZOFFSETFROM:-0400
TZOFFSETTO:-0500
RDATE:20231105T020000
RDATE:20241103T020000
END:STANDARD
BEGIN:DAYLIGHT
TZNAME:EDT
DTSTART:20230312T020000
TZOFFSETFROM:-0500
TZOFFSETTO:-0400
RDATE:20240310T020000
RDATE:20250309T020000
END:DAYLIGHT
END:VTIMEZONE
BEGIN:VEVENT
UID:b6e8b3f6-7571-4a82-9448-85e3e72ec53d
DTSTAMP:20260423T161603Z
DESCRIPTION:Please join us for Art in the Garden!  Local author and artist 
 Katherine Ziff will lead us in blind contour drawing with plants.  Blind c
 ontour drawing is a mindful practice of “being rather than doing.” Paper a
 nd drawing utensils provided\, but feel free to bring your own.  Dress for
  the weather.  All are welcome!  No art background necessary.
DTSTART;TZID=America/New_York:20231021T113000
DTEND;TZID=America/New_York:20231021T123000
LOCATION:Eastside Community Garden (behind the Holiday Inn on East State St
 reet\, near the new solar panels)
SUMMARY:Art in the Garden: Blind Contouring Drawing with Katherine Ziff POS
 TPONED DUE TO WEATHER
END:VEVENT
END:VCALENDAR
