BEGIN:VCALENDAR
VERSION:2.0
PRODID:-//communityfoodinitiatives.org//NONSGML kigkonsult.se iCalcreator 2
 .30.10//
CALSCALE:GREGORIAN
METHOD:PUBLISH
UID:e8129e33-8886-4735-beca-0c502809b89c
X-WR-CALDESC:Join us for an afternoon learning how to make 3 different soup
 s as we enter soup season!  We'll be focusing on soups that are freezer-fr
 iendly and that use seasonal ingredients.
X-WR-RELCALID:c5379dc3e4b34051b1c5fd4864ad7f29
X-WR-TIMEZONE:America/New_York
BEGIN:VTIMEZONE
TZID:America/New_York
BEGIN:STANDARD
TZNAME:EST
DTSTART:20221106T020000
TZOFFSETFROM:-0400
TZOFFSETTO:-0500
RDATE:20231105T020000
RDATE:20241103T020000
END:STANDARD
BEGIN:DAYLIGHT
TZNAME:EDT
DTSTART:20230312T020000
TZOFFSETFROM:-0500
TZOFFSETTO:-0400
RDATE:20240310T020000
RDATE:20250309T020000
END:DAYLIGHT
END:VTIMEZONE
BEGIN:VEVENT
UID:ea0c75fe-c4e4-476d-b632-f47121593737
DTSTAMP:20260423T160626Z
DESCRIPTION:Join us for an afternoon learning how to make 3 different soups
  as we enter soup season!  We'll be focusing on soups that are freezer-fri
 endly and that use seasonal ingredients.
DTSTART;TZID=America/New_York:20231014T140000
DTEND;TZID=America/New_York:20231014T160000
LOCATION:61 Columbia Avenue\, Athens\, OH
SUMMARY:Discovery Kitchen Workshop
END:VEVENT
END:VCALENDAR
