BEGIN:VCALENDAR
VERSION:2.0
PRODID:-//communityfoodinitiatives.org//NONSGML kigkonsult.se iCalcreator 2
 .30.10//
CALSCALE:GREGORIAN
METHOD:PUBLISH
UID:12808d05-39eb-426e-9163-e45711c14f43
X-WR-CALDESC:We'll meet in the Eastside Community Garden off East Park Driv
 e in Athens and do whatever there is to be done!  The garden is located be
 hind Holiday Inn beyond the solar array\, near the water treatment plant. 
  Tasks generally include weeding\, harvesting\, planting\, and spreading c
 ompost/mulch.  PLEASE NOTE:  Garden schedules change often!  PLEASE REACH 
 OUT TO COMMUNITY GARDENS COORDINATOR AMY FUGIKAWA TO CONFIRM DAY/TIME OF G
 ARDEN WORK PARTIES.
X-WR-RELCALID:fdf2e98ff9000d454eca67ecabd104e1
X-WR-TIMEZONE:America/New_York
BEGIN:VTIMEZONE
TZID:America/New_York
BEGIN:STANDARD
TZNAME:EST
DTSTART:20221106T020000
TZOFFSETFROM:-0400
TZOFFSETTO:-0500
RDATE:20231105T020000
RDATE:20241103T020000
END:STANDARD
BEGIN:DAYLIGHT
TZNAME:EDT
DTSTART:20230312T020000
TZOFFSETFROM:-0500
TZOFFSETTO:-0400
RDATE:20240310T020000
RDATE:20250309T020000
END:DAYLIGHT
END:VTIMEZONE
BEGIN:VEVENT
UID:fd8ed715-4d0b-49bf-bddc-fad1c233fda7
DTSTAMP:20260423T161129Z
DESCRIPTION:We'll meet in the Eastside Community Garden off East Park Drive
  in Athens and do whatever there is to be done!  The garden is located beh
 ind Holiday Inn beyond the solar array\, near the water treatment plant.  
 Tasks generally include weeding\, harvesting\, planting\, and spreading co
 mpost/mulch.  PLEASE NOTE:  Garden schedules change often!  PLEASE REACH O
 UT TO COMMUNITY GARDENS COORDINATOR AMY FUGIKAWA TO CONFIRM DAY/TIME OF GA
 RDEN WORK PARTIES.
DTSTART;TZID=America/New_York:20231004T163000
DTEND;TZID=America/New_York:20231004T183000
LOCATION:Eastside Community Garden
SUMMARY:Eastside Community Garden Work Party
END:VEVENT
END:VCALENDAR
