BEGIN:VCALENDAR
VERSION:2.0
PRODID:-//communityfoodinitiatives.org//NONSGML kigkonsult.se iCalcreator 2
 .30.10//
CALSCALE:GREGORIAN
METHOD:PUBLISH
UID:14258642-4201-40a9-a14a-d3c231735e1d
X-WR-CALDESC:Donation Station attends the Chesterhill Produce Auction to pu
 rchase food for distribution to our food access partners.  Volunteers help
  log data\, weigh produce\, and haul/pack produce.  We also invite auction
 -goers to donate part of their purchases to Donation Station!
X-WR-RELCALID:01db6ae2b2459002efc27cd0cd7d293e
X-WR-TIMEZONE:America/New_York
BEGIN:VTIMEZONE
TZID:America/New_York
BEGIN:STANDARD
TZNAME:EST
DTSTART:20221106T020000
TZOFFSETFROM:-0400
TZOFFSETTO:-0500
RDATE:20231105T020000
RDATE:20241103T020000
END:STANDARD
BEGIN:DAYLIGHT
TZNAME:EDT
DTSTART:20230312T020000
TZOFFSETFROM:-0500
TZOFFSETTO:-0400
RDATE:20240310T020000
RDATE:20250309T020000
END:DAYLIGHT
END:VTIMEZONE
BEGIN:VEVENT
UID:01e3c12e-3f9a-420d-9fab-21debf9750c7
DTSTAMP:20260423T145145Z
DESCRIPTION:Donation Station attends the Chesterhill Produce Auction to pur
 chase food for distribution to our food access partners.  Volunteers help 
 log data\, weigh produce\, and haul/pack produce.  We also invite auction-
 goers to donate part of their purchases to Donation Station!
DTSTART;TZID=America/New_York:20230911T160000
DTEND;TZID=America/New_York:20230911T180000
LOCATION:Chesterhill Produce Auction
SUMMARY:Donation Station at Chesterhill Produce Auction
END:VEVENT
END:VCALENDAR
