BEGIN:VCALENDAR
VERSION:2.0
PRODID:-//communityfoodinitiatives.org//NONSGML kigkonsult.se iCalcreator 2
 .30.10//
CALSCALE:GREGORIAN
METHOD:PUBLISH
UID:68de3a43-a469-4bd5-9383-37cd9f6a1168
X-WR-CALDESC:We'll meet in the South Community Garden at Carriage Hill Apar
 tments and do whatever there is to be done!  Tasks generally include weedi
 ng\, harvesting\, planting\, and spreading compost/mulch.  PLEASE NOTE:  G
 arden schedules change often!  PLEASE REACH OUT TO COMMUNITY GARDENS COORD
 INATOR AMY FUGIKAWA TO CONFIRM DAY/TIME OF GARDEN WORK PARTIES.
X-WR-RELCALID:c53abbb8214e003d5db9409490838dce
X-WR-TIMEZONE:America/New_York
BEGIN:VTIMEZONE
TZID:America/New_York
BEGIN:STANDARD
TZNAME:EST
DTSTART:20221106T020000
TZOFFSETFROM:-0400
TZOFFSETTO:-0500
RDATE:20231105T020000
RDATE:20241103T020000
END:STANDARD
BEGIN:DAYLIGHT
TZNAME:EDT
DTSTART:20230312T020000
TZOFFSETFROM:-0500
TZOFFSETTO:-0400
RDATE:20240310T020000
END:DAYLIGHT
END:VTIMEZONE
BEGIN:VEVENT
UID:4ceae0a0-b11b-4d78-b654-a039790c4ed4
DTSTAMP:20260423T144753Z
DESCRIPTION:We'll meet in the South Community Garden at Carriage Hill Apart
 ments and do whatever there is to be done!  Tasks generally include weedin
 g\, harvesting\, planting\, and spreading compost/mulch.  PLEASE NOTE:  Ga
 rden schedules change often!  PLEASE REACH OUT TO COMMUNITY GARDENS COORDI
 NATOR AMY FUGIKAWA TO CONFIRM DAY/TIME OF GARDEN WORK PARTIES.
DTSTART;TZID=America/New_York:20230904T163000
DTEND;TZID=America/New_York:20230904T183000
LOCATION:Southside Community Garden
SUMMARY:Southside Community Garden Work Party
END:VEVENT
END:VCALENDAR
