BEGIN:VCALENDAR
VERSION:2.0
PRODID:-//communityfoodinitiatives.org//NONSGML kigkonsult.se iCalcreator 2
 .30.10//
CALSCALE:GREGORIAN
METHOD:PUBLISH
UID:c3f81f9a-b7fd-420a-8376-89141dfbdabf
X-WR-CALDESC:We'll work together on community garden maintenance\, which mi
 ght include weeding\, watering\, planting\, harvesting\, or spreading mulc
 h/compost.
X-WR-RELCALID:f40140d94d7f2b606edcc7c54a17513b
X-WR-TIMEZONE:America/New_York
BEGIN:VTIMEZONE
TZID:America/New_York
BEGIN:STANDARD
TZNAME:EST
DTSTART:20221106T020000
TZOFFSETFROM:-0400
TZOFFSETTO:-0500
RDATE:20231105T020000
RDATE:20241103T020000
END:STANDARD
BEGIN:DAYLIGHT
TZNAME:EDT
DTSTART:20230312T020000
TZOFFSETFROM:-0500
TZOFFSETTO:-0400
RDATE:20240310T020000
END:DAYLIGHT
END:VTIMEZONE
BEGIN:VEVENT
UID:5af36780-8e42-41cc-9c2f-cff3a4413863
DTSTAMP:20260423T133951Z
DESCRIPTION:We'll work together on community garden maintenance\, which mig
 ht include weeding\, watering\, planting\, harvesting\, or spreading mulch
 /compost.
DTSTART;TZID=America/New_York:20230829T090000
DTEND;TZID=America/New_York:20230829T110000
LOCATION:Nelsonville Community Garden\, 1950 Mt St Mary's Drive\, Nelsonvil
 le\, OH
SUMMARY:Nelsonville Community Garden Work Party
END:VEVENT
END:VCALENDAR
