BEGIN:VCALENDAR
VERSION:2.0
PRODID:-//communityfoodinitiatives.org//NONSGML kigkonsult.se iCalcreator 2
 .30.10//
CALSCALE:GREGORIAN
METHOD:PUBLISH
UID:3abf302e-97da-4d18-94cf-2323bbe3aef7
X-WR-CALDESC:If a work party during the week is canceled due to weather\, w
 e'll meet at this time (location TBD) to do whatever there is to be done! 
  Tasks generally include weeding\, harvesting\, planting\, and spreading c
 ompost/mulch.
X-WR-RELCALID:0d4e2a68dd70505028de870f480d8514
X-WR-TIMEZONE:America/New_York
BEGIN:VTIMEZONE
TZID:America/New_York
BEGIN:STANDARD
TZNAME:EST
DTSTART:20221106T020000
TZOFFSETFROM:-0400
TZOFFSETTO:-0500
RDATE:20231105T020000
RDATE:20241103T020000
END:STANDARD
BEGIN:DAYLIGHT
TZNAME:EDT
DTSTART:20230312T020000
TZOFFSETFROM:-0500
TZOFFSETTO:-0400
RDATE:20240310T020000
END:DAYLIGHT
END:VTIMEZONE
BEGIN:VEVENT
UID:ed604666-3b50-421b-a801-2a6be16660be
DTSTAMP:20260423T134129Z
DESCRIPTION:If a work party during the week is canceled due to weather\, we
 'll meet at this time (location TBD) to do whatever there is to be done!  
 Tasks generally include weeding\, harvesting\, planting\, and spreading co
 mpost/mulch.
DTSTART;TZID=America/New_York:20230817T163000
DTEND;TZID=America/New_York:20230817T183000
LOCATION:One of CFI's Community Gardens -- location TBD
SUMMARY:Community Garden Work Party Rain Date
END:VEVENT
END:VCALENDAR
