BEGIN:VCALENDAR
VERSION:2.0
PRODID:-//communityfoodinitiatives.org//NONSGML kigkonsult.se iCalcreator 2
 .30.10//
CALSCALE:GREGORIAN
METHOD:PUBLISH
UID:440c7896-3185-4eda-938e-3ef2fb48e914
X-WR-CALDESC:Donation Station attends the Chesterhill Produce Auction to pu
 rchase food for distribution to our food access partners.  Volunteers help
  log data\, weigh produce\, and haul/pack produce.  We also invite auction
 -goers to donate part of their purchases to Donation Station!
X-WR-RELCALID:efb157c898927090b4e984c972e2cf71
X-WR-TIMEZONE:America/New_York
BEGIN:VTIMEZONE
TZID:America/New_York
BEGIN:STANDARD
TZNAME:EST
DTSTART:20221106T020000
TZOFFSETFROM:-0400
TZOFFSETTO:-0500
RDATE:20231105T020000
RDATE:20241103T020000
END:STANDARD
BEGIN:DAYLIGHT
TZNAME:EDT
DTSTART:20230312T020000
TZOFFSETFROM:-0500
TZOFFSETTO:-0400
RDATE:20240310T020000
END:DAYLIGHT
END:VTIMEZONE
BEGIN:VEVENT
UID:42abed1c-2ad7-48cc-bfa7-7cc79b91f24a
DTSTAMP:20260423T134814Z
DESCRIPTION:Donation Station attends the Chesterhill Produce Auction to pur
 chase food for distribution to our food access partners.  Volunteers help 
 log data\, weigh produce\, and haul/pack produce.  We also invite auction-
 goers to donate part of their purchases to Donation Station!
DTSTART;TZID=America/New_York:20230810T160000
DTEND;TZID=America/New_York:20230810T180000
LOCATION:Chesterhill Produce Auction
SUMMARY:Donation Station at Chesterhill Produce Auction
END:VEVENT
END:VCALENDAR
