BEGIN:VCALENDAR
VERSION:2.0
PRODID:-//communityfoodinitiatives.org//NONSGML kigkonsult.se iCalcreator 2
 .30.10//
CALSCALE:GREGORIAN
METHOD:PUBLISH
UID:59cd1a2b-f340-48ef-92ac-bde59985ae97
X-WR-CALDESC:CFI will offer Discovery Kitchen recipes and samples at the At
 hens Farmers Market.
X-WR-RELCALID:fe9f4b5a7afc680798a6ec145b5fdd5b
X-WR-TIMEZONE:America/New_York
BEGIN:VTIMEZONE
TZID:America/New_York
BEGIN:STANDARD
TZNAME:EST
DTSTART:20221106T020000
TZOFFSETFROM:-0400
TZOFFSETTO:-0500
RDATE:20231105T020000
RDATE:20241103T020000
END:STANDARD
BEGIN:DAYLIGHT
TZNAME:EDT
DTSTART:20230312T020000
TZOFFSETFROM:-0500
TZOFFSETTO:-0400
RDATE:20240310T020000
END:DAYLIGHT
END:VTIMEZONE
BEGIN:VEVENT
UID:d23940bf-6bb4-4f4a-a498-9036db995324
DTSTAMP:20260423T134652Z
DESCRIPTION:CFI will offer Discovery Kitchen recipes and samples at the Ath
 ens Farmers Market.
DTSTART;TZID=America/New_York:20230809T090000
DTEND;TZID=America/New_York:20230809T113000
LOCATION:Athens Farmers Market
SUMMARY:Discovery Kitchen at Athens Farmers Market
END:VEVENT
END:VCALENDAR
