BEGIN:VCALENDAR
VERSION:2.0
PRODID:-//communityfoodinitiatives.org//NONSGML kigkonsult.se iCalcreator 2
 .30.10//
CALSCALE:GREGORIAN
METHOD:PUBLISH
UID:047ff50f-ba98-4c2f-bf46-b0cec3512008
X-WR-CALDESC:We'll work together on community garden maintenance\, which mi
 ght include weeding\, watering\, planting\, harvesting\, or spreading mulc
 h/compost.
X-WR-RELCALID:6f9755352d0e091aaa30a9bd0b308f1b
X-WR-TIMEZONE:America/New_York
BEGIN:VTIMEZONE
TZID:America/New_York
BEGIN:STANDARD
TZNAME:EST
DTSTART:20221106T020000
TZOFFSETFROM:-0400
TZOFFSETTO:-0500
RDATE:20231105T020000
RDATE:20241103T020000
END:STANDARD
BEGIN:DAYLIGHT
TZNAME:EDT
DTSTART:20230312T020000
TZOFFSETFROM:-0500
TZOFFSETTO:-0400
RDATE:20240310T020000
END:DAYLIGHT
END:VTIMEZONE
BEGIN:VEVENT
UID:bd01a8ee-b2f4-4261-b6f0-c9aead99fa8f
DTSTAMP:20260423T122204Z
DESCRIPTION:We'll work together on community garden maintenance\, which mig
 ht include weeding\, watering\, planting\, harvesting\, or spreading mulch
 /compost.
DTSTART;TZID=America/New_York:20230725T090000
DTEND;TZID=America/New_York:20230725T110000
LOCATION:Nelsonville Community Garden\, 1950 Mt St Mary's Drive\, Nelsonvil
 le\, OH
SUMMARY:Nelsonville Community Garden Work Party
END:VEVENT
END:VCALENDAR
