BEGIN:VCALENDAR
VERSION:2.0
PRODID:-//communityfoodinitiatives.org//NONSGML kigkonsult.se iCalcreator 2
 .30.10//
CALSCALE:GREGORIAN
METHOD:PUBLISH
UID:413efa63-ed33-488c-8a5d-73563359548c
X-WR-CALDESC:We'll work together on community garden maintenance\, which mi
 ght include weeding\, watering\, planting\, harvesting\, or spreading mulc
 h/compost.
X-WR-RELCALID:cc1061cc4ff1cbd9c90280e21b4a1907
X-WR-TIMEZONE:America/New_York
BEGIN:VTIMEZONE
TZID:America/New_York
BEGIN:STANDARD
TZNAME:EST
DTSTART:20221106T020000
TZOFFSETFROM:-0400
TZOFFSETTO:-0500
RDATE:20231105T020000
RDATE:20241103T020000
END:STANDARD
BEGIN:DAYLIGHT
TZNAME:EDT
DTSTART:20230312T020000
TZOFFSETFROM:-0500
TZOFFSETTO:-0400
RDATE:20240310T020000
END:DAYLIGHT
END:VTIMEZONE
BEGIN:VEVENT
UID:c6b229df-406e-458c-a43c-474cb077ed5c
DTSTAMP:20260423T122112Z
DESCRIPTION:We'll work together on community garden maintenance\, which mig
 ht include weeding\, watering\, planting\, harvesting\, or spreading mulch
 /compost.
DTSTART;TZID=America/New_York:20230719T160000
DTEND;TZID=America/New_York:20230719T180000
LOCATION:Eastside Community Garden on East State Street behind the Holiday 
 Inn
SUMMARY:Eastside Community Garden Work Party
END:VEVENT
END:VCALENDAR
