BEGIN:VCALENDAR
VERSION:2.0
PRODID:-//communityfoodinitiatives.org//NONSGML kigkonsult.se iCalcreator 2
 .30.10//
CALSCALE:GREGORIAN
METHOD:PUBLISH
UID:6d9dd37f-0236-4a30-9abf-9c851977b783
X-WR-CALDESC:We'll meet in the South Community Garden at Carriage Hill Apar
 tments and do whatever there is to be done!  Tasks generally include weedi
 ng\, harvesting\, planting\, and spreading compost/mulch.
X-WR-RELCALID:866aea7d98beaef8281e7fa46c5e0744
X-WR-TIMEZONE:America/New_York
BEGIN:VTIMEZONE
TZID:America/New_York
BEGIN:STANDARD
TZNAME:EST
DTSTART:20221106T020000
TZOFFSETFROM:-0400
TZOFFSETTO:-0500
RDATE:20231105T020000
RDATE:20241103T020000
END:STANDARD
BEGIN:DAYLIGHT
TZNAME:EDT
DTSTART:20230312T020000
TZOFFSETFROM:-0500
TZOFFSETTO:-0400
RDATE:20240310T020000
END:DAYLIGHT
END:VTIMEZONE
BEGIN:VEVENT
UID:d37e0633-9bcb-45cf-b54c-c927e469f47a
DTSTAMP:20260423T122046Z
DESCRIPTION:We'll meet in the South Community Garden at Carriage Hill Apart
 ments and do whatever there is to be done!  Tasks generally include weedin
 g\, harvesting\, planting\, and spreading compost/mulch.
DTSTART;TZID=America/New_York:20230718T180000
DTEND;TZID=America/New_York:20230718T200000
LOCATION:Southside Community Garden
SUMMARY:Southside Community Garden Work Party
END:VEVENT
END:VCALENDAR
