BEGIN:VCALENDAR
VERSION:2.0
PRODID:-//communityfoodinitiatives.org//NONSGML kigkonsult.se iCalcreator 2
 .30.10//
CALSCALE:GREGORIAN
METHOD:PUBLISH
UID:62d40688-d824-4b98-956b-4787dd1a8fa3
X-WR-CALDESC:Donation Station attends the Chesterhill Produce Auction to pu
 rchase food for distribution to our food access partners.  Volunteers help
  log data\, weigh produce\, and haul/pack produce.  We also invite auction
 -goers to donate part of their purchases to Donation Station!
X-WR-RELCALID:e2e29c896fe960a8e45cf2bf19040ea3
X-WR-TIMEZONE:America/New_York
BEGIN:VTIMEZONE
TZID:America/New_York
BEGIN:STANDARD
TZNAME:EST
DTSTART:20221106T020000
TZOFFSETFROM:-0400
TZOFFSETTO:-0500
RDATE:20231105T020000
RDATE:20241103T020000
END:STANDARD
BEGIN:DAYLIGHT
TZNAME:EDT
DTSTART:20230312T020000
TZOFFSETFROM:-0500
TZOFFSETTO:-0400
RDATE:20240310T020000
END:DAYLIGHT
END:VTIMEZONE
BEGIN:VEVENT
UID:d02dd553-4319-4e56-ac3a-dbdd22ba3657
DTSTAMP:20260423T122401Z
DESCRIPTION:Donation Station attends the Chesterhill Produce Auction to pur
 chase food for distribution to our food access partners.  Volunteers help 
 log data\, weigh produce\, and haul/pack produce.  We also invite auction-
 goers to donate part of their purchases to Donation Station!
DTSTART;TZID=America/New_York:20230717T160000
DTEND;TZID=America/New_York:20230717T180000
LOCATION:Chesterhill Produce Auction
SUMMARY:Donation Station at Chesterhill Produce Auction
END:VEVENT
END:VCALENDAR
