BEGIN:VCALENDAR
VERSION:2.0
PRODID:-//communityfoodinitiatives.org//NONSGML kigkonsult.se iCalcreator 2
 .30.10//
CALSCALE:GREGORIAN
METHOD:PUBLISH
UID:acf0e0cb-1892-41ad-92ca-157a06ab7ab1
X-WR-CALDESC:
X-WR-RELCALID:c9212a800560243ede20c180d63bdc5c
X-WR-TIMEZONE:America/New_York
BEGIN:VTIMEZONE
TZID:America/New_York
BEGIN:STANDARD
TZNAME:EST
DTSTART:20221106T020000
TZOFFSETFROM:-0400
TZOFFSETTO:-0500
RDATE:20231105T020000
RDATE:20241103T020000
END:STANDARD
BEGIN:DAYLIGHT
TZNAME:EDT
DTSTART:20230312T020000
TZOFFSETFROM:-0500
TZOFFSETTO:-0400
RDATE:20240310T020000
END:DAYLIGHT
END:VTIMEZONE
BEGIN:VEVENT
UID:4e15886b-6c22-4d8f-a08a-a01c91665ab4
DTSTAMP:20260423T121938Z
DESCRIPTION:
DTSTART;TZID=America/New_York:20230713T090000
DTEND;TZID=America/New_York:20230713T120000
LOCATION:The Plains United Methodist Church
SUMMARY:School Gardens at Good Works Summer Camp
END:VEVENT
END:VCALENDAR
