BEGIN:VCALENDAR
VERSION:2.0
PRODID:-//communityfoodinitiatives.org//NONSGML kigkonsult.se iCalcreator 2
 .30.10//
CALSCALE:GREGORIAN
METHOD:PUBLISH
UID:5e1e916c-56dc-4f18-a084-c6e58c3f3e28
X-WR-CALDESC:We'll meet in the South Community Garden at Carriage Hill Apar
 tments and do whatever there is to be done!  Tasks generally include weedi
 ng\, harvesting\, planting\, and spreading compost/mulch.
X-WR-RELCALID:9620e8c6090bbc6f17551f2b7a8f101f
X-WR-TIMEZONE:America/New_York
BEGIN:VTIMEZONE
TZID:America/New_York
BEGIN:STANDARD
TZNAME:EST
DTSTART:20221106T020000
TZOFFSETFROM:-0400
TZOFFSETTO:-0500
RDATE:20231105T020000
RDATE:20241103T020000
END:STANDARD
BEGIN:DAYLIGHT
TZNAME:EDT
DTSTART:20230312T020000
TZOFFSETFROM:-0500
TZOFFSETTO:-0400
RDATE:20240310T020000
END:DAYLIGHT
END:VTIMEZONE
BEGIN:VEVENT
UID:a6938a70-37d8-4b15-b5ae-b801d67e8e49
DTSTAMP:20260423T122058Z
DESCRIPTION:We'll meet in the South Community Garden at Carriage Hill Apart
 ments and do whatever there is to be done!  Tasks generally include weedin
 g\, harvesting\, planting\, and spreading compost/mulch.
DTSTART;TZID=America/New_York:20230713T090000
DTEND;TZID=America/New_York:20230713T110000
LOCATION:Southside Community Garden
SUMMARY:Southside Community Garden Work Party
END:VEVENT
END:VCALENDAR
