BEGIN:VCALENDAR
VERSION:2.0
PRODID:-//communityfoodinitiatives.org//NONSGML kigkonsult.se iCalcreator 2
 .30.10//
CALSCALE:GREGORIAN
METHOD:PUBLISH
UID:5e2a2c28-39ba-4bd2-a869-2ccafa5fb685
X-WR-CALDESC:
X-WR-RELCALID:d699dcba2e5c12307b6bd5e3920f63f1
X-WR-TIMEZONE:America/New_York
BEGIN:VTIMEZONE
TZID:America/New_York
BEGIN:STANDARD
TZNAME:EST
DTSTART:20221106T020000
TZOFFSETFROM:-0400
TZOFFSETTO:-0500
RDATE:20231105T020000
RDATE:20241103T020000
END:STANDARD
BEGIN:DAYLIGHT
TZNAME:EDT
DTSTART:20230312T020000
TZOFFSETFROM:-0500
TZOFFSETTO:-0400
RDATE:20240310T020000
END:DAYLIGHT
END:VTIMEZONE
BEGIN:VEVENT
UID:41dc98e1-1f48-4606-82ec-fcfed50a89a5
DTSTAMP:20260423T111138Z
DESCRIPTION:
DTSTART;TZID=America/New_York:20230629T090000
DTEND;TZID=America/New_York:20230629T130000
LOCATION:Morrison Gordon Elementary School Garden
SUMMARY:Beacon Summer Garden Camp
END:VEVENT
END:VCALENDAR
