BEGIN:VCALENDAR
VERSION:2.0
PRODID:-//communityfoodinitiatives.org//NONSGML kigkonsult.se iCalcreator 2
 .30.10//
CALSCALE:GREGORIAN
METHOD:PUBLISH
UID:bb5ab261-974f-458b-a30c-12ecb733d8ff
X-WR-CALDESC:We'll work together on community garden maintenance\, share a 
 craft\, and share snacks made with local\, seasonal ingredients.  Particip
 ants are encouraged to attend for the entire 6 weeks. Garden tasks may inc
 lude weeding\, watering\, planting\, harvesting\, or spreading mulch/compo
 st.
X-WR-RELCALID:5fcb79c605c855aa667bbb97d379474c
X-WR-TIMEZONE:America/New_York
BEGIN:VTIMEZONE
TZID:America/New_York
BEGIN:STANDARD
TZNAME:EST
DTSTART:20221106T020000
TZOFFSETFROM:-0400
TZOFFSETTO:-0500
RDATE:20231105T020000
RDATE:20241103T020000
END:STANDARD
BEGIN:DAYLIGHT
TZNAME:EDT
DTSTART:20230312T020000
TZOFFSETFROM:-0500
TZOFFSETTO:-0400
RDATE:20240310T020000
END:DAYLIGHT
END:VTIMEZONE
BEGIN:VEVENT
UID:0cbd7996-2540-4b24-a4e6-60c1fa62e1c7
DTSTAMP:20260423T111919Z
DESCRIPTION:We'll work together on community garden maintenance\, share a c
 raft\, and share snacks made with local\, seasonal ingredients.  Participa
 nts are encouraged to attend for the entire 6 weeks. Garden tasks may incl
 ude weeding\, watering\, planting\, harvesting\, or spreading mulch/compos
 t.
DTSTART;TZID=America/New_York:20230628T100000
DTEND;TZID=America/New_York:20230628T113000
LOCATION:Hope Drive Community Garden\, Hope Drive Apartments\, 804 Hope Dri
 ve\, Athens\, OH
SUMMARY:Hope Drive Garden Club
END:VEVENT
END:VCALENDAR
