BEGIN:VCALENDAR
VERSION:2.0
PRODID:-//communityfoodinitiatives.org//NONSGML kigkonsult.se iCalcreator 2
 .30.10//
CALSCALE:GREGORIAN
METHOD:PUBLISH
UID:3141c35c-afa7-4d0d-9ff0-c81cd233dc65
X-WR-CALDESC:
X-WR-RELCALID:07a050dd6662e32f3a29dcb0241e5396
X-WR-TIMEZONE:America/New_York
BEGIN:VTIMEZONE
TZID:America/New_York
BEGIN:STANDARD
TZNAME:EST
DTSTART:20221106T020000
TZOFFSETFROM:-0400
TZOFFSETTO:-0500
RDATE:20231105T020000
RDATE:20241103T020000
END:STANDARD
BEGIN:DAYLIGHT
TZNAME:EDT
DTSTART:20230312T020000
TZOFFSETFROM:-0500
TZOFFSETTO:-0400
RDATE:20240310T020000
END:DAYLIGHT
END:VTIMEZONE
BEGIN:VEVENT
UID:6c1a1d54-ff54-4fef-8049-001542d7a691
DTSTAMP:20260423T111139Z
DESCRIPTION:
DTSTART;TZID=America/New_York:20230623T090000
DTEND;TZID=America/New_York:20230623T130000
LOCATION:Morrison Gordon Elementary School Garden
SUMMARY:Beacon Summer Garden Camp
END:VEVENT
END:VCALENDAR
