BEGIN:VCALENDAR
VERSION:2.0
PRODID:-//communityfoodinitiatives.org//NONSGML kigkonsult.se iCalcreator 2
 .30.10//
CALSCALE:GREGORIAN
METHOD:PUBLISH
UID:fbb113a6-d608-4d51-b326-9bc72a771f10
X-WR-CALDESC:
X-WR-RELCALID:022e62841ed3ae802a6a9fe78f988f76
X-WR-TIMEZONE:America/New_York
BEGIN:VTIMEZONE
TZID:America/New_York
BEGIN:STANDARD
TZNAME:EST
DTSTART:20221106T020000
TZOFFSETFROM:-0400
TZOFFSETTO:-0500
RDATE:20231105T020000
RDATE:20241103T020000
END:STANDARD
BEGIN:DAYLIGHT
TZNAME:EDT
DTSTART:20230312T020000
TZOFFSETFROM:-0500
TZOFFSETTO:-0400
RDATE:20240310T020000
END:DAYLIGHT
END:VTIMEZONE
BEGIN:VEVENT
UID:82a32389-c5b6-44d2-aaca-34b5e3af2a27
DTSTAMP:20260423T111244Z
DESCRIPTION:
DTSTART;TZID=America/New_York:20230622T090000
DTEND;TZID=America/New_York:20230622T120000
LOCATION:The Plains United Methodist Church
SUMMARY:School Gardens at Good Works Summer Camp
END:VEVENT
END:VCALENDAR
