BEGIN:VCALENDAR
VERSION:2.0
PRODID:-//communityfoodinitiatives.org//NONSGML kigkonsult.se iCalcreator 2
 .30.10//
CALSCALE:GREGORIAN
METHOD:PUBLISH
UID:ddeeaef6-1cfb-4595-831b-90f7d8745027
X-WR-CALDESC:We'll work together on community garden maintenance\, share a 
 craft\, and share snacks made with local\, seasonal ingredients.  Particip
 ants are encouraged to attend for the entire 6 weeks. Garden tasks may inc
 lude weeding\, watering\, planting\, harvesting\, or spreading mulch/compo
 st.
X-WR-RELCALID:728735b18df450298b32129ba1a354a5
X-WR-TIMEZONE:America/New_York
BEGIN:VTIMEZONE
TZID:America/New_York
BEGIN:STANDARD
TZNAME:EST
DTSTART:20221106T020000
TZOFFSETFROM:-0400
TZOFFSETTO:-0500
RDATE:20231105T020000
RDATE:20241103T020000
END:STANDARD
BEGIN:DAYLIGHT
TZNAME:EDT
DTSTART:20230312T020000
TZOFFSETFROM:-0500
TZOFFSETTO:-0400
RDATE:20240310T020000
END:DAYLIGHT
END:VTIMEZONE
BEGIN:VEVENT
UID:dba2ca6f-43cd-4a74-b33a-d5131769ec30
DTSTAMP:20260423T112024Z
DESCRIPTION:We'll work together on community garden maintenance\, share a c
 raft\, and share snacks made with local\, seasonal ingredients.  Participa
 nts are encouraged to attend for the entire 6 weeks. Garden tasks may incl
 ude weeding\, watering\, planting\, harvesting\, or spreading mulch/compos
 t.
DTSTART;TZID=America/New_York:20230621T100000
DTEND;TZID=America/New_York:20230621T113000
LOCATION:Hope Drive Community Garden\, Hope Drive Apartments\, 804 Hope Dri
 ve\, Athens\, OH
SUMMARY:Hope Drive Garden Club
END:VEVENT
END:VCALENDAR
