BEGIN:VCALENDAR
VERSION:2.0
PRODID:-//communityfoodinitiatives.org//NONSGML kigkonsult.se iCalcreator 2
 .30.10//
CALSCALE:GREGORIAN
METHOD:PUBLISH
UID:a82212e6-3200-4eb8-a84e-7d3c49f2073d
X-WR-CALDESC:We'll meet in the South Community Garden at Carriage Hill Apar
 tments and do whatever there is to be done!  Tasks generally include weedi
 ng\, harvesting\, planting\, and spreading compost/mulch.
X-WR-RELCALID:e56f4c9c735c3375e2d10f22f95c3e4d
X-WR-TIMEZONE:America/New_York
BEGIN:VTIMEZONE
TZID:America/New_York
BEGIN:STANDARD
TZNAME:EST
DTSTART:20221106T020000
TZOFFSETFROM:-0400
TZOFFSETTO:-0500
RDATE:20231105T020000
RDATE:20241103T020000
END:STANDARD
BEGIN:DAYLIGHT
TZNAME:EDT
DTSTART:20230312T020000
TZOFFSETFROM:-0500
TZOFFSETTO:-0400
RDATE:20240310T020000
END:DAYLIGHT
END:VTIMEZONE
BEGIN:VEVENT
UID:b243a0a0-4c07-4dbf-b276-22120603f113
DTSTAMP:20260423T111213Z
DESCRIPTION:We'll meet in the South Community Garden at Carriage Hill Apart
 ments and do whatever there is to be done!  Tasks generally include weedin
 g\, harvesting\, planting\, and spreading compost/mulch.
DTSTART;TZID=America/New_York:20230620T180000
DTEND;TZID=America/New_York:20230620T200000
LOCATION:Southside Community Garden
SUMMARY:Southside Community Garden Work Party
END:VEVENT
END:VCALENDAR
