BEGIN:VCALENDAR
VERSION:2.0
PRODID:-//communityfoodinitiatives.org//NONSGML kigkonsult.se iCalcreator 2
 .30.10//
CALSCALE:GREGORIAN
METHOD:PUBLISH
UID:9c5d119b-8986-4855-b761-0b888258e77c
X-WR-CALDESC:
X-WR-RELCALID:7375875426e0eed192043464f5841bf7
X-WR-TIMEZONE:America/New_York
BEGIN:VTIMEZONE
TZID:America/New_York
BEGIN:STANDARD
TZNAME:EST
DTSTART:20221106T020000
TZOFFSETFROM:-0400
TZOFFSETTO:-0500
RDATE:20231105T020000
RDATE:20241103T020000
END:STANDARD
BEGIN:DAYLIGHT
TZNAME:EDT
DTSTART:20230312T020000
TZOFFSETFROM:-0500
TZOFFSETTO:-0400
RDATE:20240310T020000
END:DAYLIGHT
END:VTIMEZONE
BEGIN:VEVENT
UID:39235e1a-1114-4f36-a954-72570c54de5c
DTSTAMP:20260423T111214Z
DESCRIPTION:
DTSTART;TZID=America/New_York:20230615T090000
DTEND;TZID=America/New_York:20230615T130000
LOCATION:Morrison Gordon Elementary School Garden
SUMMARY:Beacon Summer Garden Camp
END:VEVENT
END:VCALENDAR
