BEGIN:VCALENDAR
VERSION:2.0
PRODID:-//communityfoodinitiatives.org//NONSGML kigkonsult.se iCalcreator 2
 .30.10//
CALSCALE:GREGORIAN
METHOD:PUBLISH
UID:1f455c0b-41d7-46e8-845c-b024202d6ae5
X-WR-CALDESC:
X-WR-RELCALID:0048d4666edf068240b469f11c6c14e7
X-WR-TIMEZONE:America/New_York
BEGIN:VTIMEZONE
TZID:America/New_York
BEGIN:STANDARD
TZNAME:EST
DTSTART:20221106T020000
TZOFFSETFROM:-0400
TZOFFSETTO:-0500
RDATE:20231105T020000
RDATE:20241103T020000
END:STANDARD
BEGIN:DAYLIGHT
TZNAME:EDT
DTSTART:20230312T020000
TZOFFSETFROM:-0500
TZOFFSETTO:-0400
RDATE:20240310T020000
END:DAYLIGHT
END:VTIMEZONE
BEGIN:VEVENT
UID:6359eb41-d706-4a17-a2f2-c55a5f32a077
DTSTAMP:20260423T112407Z
DESCRIPTION:
DTSTART;TZID=America/New_York:20230612T153000
DTEND;TZID=America/New_York:20230612T163000
LOCATION:Blooming View Montessori Preschool\, Athens\, Ohio
SUMMARY:School Gardens at Blooming View Montessori Preschool
END:VEVENT
END:VCALENDAR
