BEGIN:VCALENDAR
VERSION:2.0
PRODID:-//communityfoodinitiatives.org//NONSGML kigkonsult.se iCalcreator 2
 .30.10//
CALSCALE:GREGORIAN
METHOD:PUBLISH
UID:81bac2c3-eaa0-450f-ace5-335cad257ef0
X-WR-CALDESC:Donation Station attends the Chesterhill Produce Auction to pu
 rchase food for distribution to our food access partners.  Volunteers help
  log data\, weigh produce\, and haul/pack produce.  We also invite auction
 -goers to donate part of their purchases to Donation Station!
X-WR-RELCALID:95048e19f472f45bba76bff2f9d7fb54
X-WR-TIMEZONE:America/New_York
BEGIN:VTIMEZONE
TZID:America/New_York
BEGIN:STANDARD
TZNAME:EST
DTSTART:20221106T020000
TZOFFSETFROM:-0400
TZOFFSETTO:-0500
RDATE:20231105T020000
RDATE:20241103T020000
END:STANDARD
BEGIN:DAYLIGHT
TZNAME:EDT
DTSTART:20230312T020000
TZOFFSETFROM:-0500
TZOFFSETTO:-0400
RDATE:20240310T020000
END:DAYLIGHT
END:VTIMEZONE
BEGIN:VEVENT
UID:3f3cedc6-3fa6-498b-a488-f51c9352b4fc
DTSTAMP:20260423T112837Z
DESCRIPTION:Donation Station attends the Chesterhill Produce Auction to pur
 chase food for distribution to our food access partners.  Volunteers help 
 log data\, weigh produce\, and haul/pack produce.  We also invite auction-
 goers to donate part of their purchases to Donation Station!
DTSTART;TZID=America/New_York:20230608T160000
DTEND;TZID=America/New_York:20230608T180000
LOCATION:Chesterhill Produce Auction
SUMMARY:Donation Station at Chesterhill Produce Auction
END:VEVENT
END:VCALENDAR
