BEGIN:VCALENDAR
VERSION:2.0
PRODID:-//communityfoodinitiatives.org//NONSGML kigkonsult.se iCalcreator 2
 .30.10//
CALSCALE:GREGORIAN
METHOD:PUBLISH
UID:bd8ecdd2-fadd-41bc-8993-f45d7f1fbc35
X-WR-CALDESC:We'll work in the Donation Station plot at Vest Berries farm d
 oing typical garden tasks in preparation for the growing season -- weeding
 \, planting\, etc.  Come prepared to work outside and bring a water bottle
 .
X-WR-RELCALID:85049f331d62b56ddb9f3e1ddae674d1
X-WR-TIMEZONE:America/New_York
BEGIN:VTIMEZONE
TZID:America/New_York
BEGIN:STANDARD
TZNAME:EST
DTSTART:20221106T020000
TZOFFSETFROM:-0400
TZOFFSETTO:-0500
RDATE:20231105T020000
RDATE:20241103T020000
END:STANDARD
BEGIN:DAYLIGHT
TZNAME:EDT
DTSTART:20230312T020000
TZOFFSETFROM:-0500
TZOFFSETTO:-0400
RDATE:20240310T020000
END:DAYLIGHT
END:VTIMEZONE
BEGIN:VEVENT
UID:242f0cf0-2afe-4484-9a5c-218d5b199e38
DTSTAMP:20260423T101531Z
DESCRIPTION:We'll work in the Donation Station plot at Vest Berries farm do
 ing typical garden tasks in preparation for the growing season -- weeding\
 , planting\, etc.  Come prepared to work outside and bring a water bottle.
DTSTART;TZID=America/New_York:20230525T110000
DTEND;TZID=America/New_York:20230525T140000
LOCATION:18170 Mush Run Rd\, Stewart\, OH 45778
SUMMARY:Donation Station Food For All Farm Plot Work Day
END:VEVENT
END:VCALENDAR
