BEGIN:VCALENDAR
VERSION:2.0
PRODID:-//communityfoodinitiatives.org//NONSGML kigkonsult.se iCalcreator 2
 .30.10//
CALSCALE:GREGORIAN
METHOD:PUBLISH
UID:57dd1e4d-6070-4aa5-9f1a-30e5ac9251ea
X-WR-CALDESC:Come out to West End Ciderhouse in Athens on Tuesday\, 5/23\, 
 5pm-7pm and hang out with the CFI team!  Learn about CFI or just enjoy som
 e social time in a beautiful space.  $1/draft goes to CFI!
X-WR-RELCALID:699402bc807275938715f04afd277d39
X-WR-TIMEZONE:America/New_York
BEGIN:VTIMEZONE
TZID:America/New_York
BEGIN:STANDARD
TZNAME:EST
DTSTART:20221106T020000
TZOFFSETFROM:-0400
TZOFFSETTO:-0500
RDATE:20231105T020000
RDATE:20241103T020000
END:STANDARD
BEGIN:DAYLIGHT
TZNAME:EDT
DTSTART:20230312T020000
TZOFFSETFROM:-0500
TZOFFSETTO:-0400
RDATE:20240310T020000
END:DAYLIGHT
END:VTIMEZONE
BEGIN:VEVENT
UID:015d6af6-4ffc-47f4-82a0-0e59225dd8ad
DTSTAMP:20260423T101531Z
DESCRIPTION:Come out to West End Ciderhouse in Athens on Tuesday\, 5/23\, 5
 pm-7pm and hang out with the CFI team!  Learn about CFI or just enjoy some
  social time in a beautiful space.  $1/draft goes to CFI!
DTSTART;TZID=America/New_York:20230523T170000
DTEND;TZID=America/New_York:20230523T190000
LOCATION:West End Ciderhouse\, Athens\, OH
SUMMARY:CFI social hour and fundraiser
END:VEVENT
END:VCALENDAR
