BEGIN:VCALENDAR
VERSION:2.0
PRODID:-//communityfoodinitiatives.org//NONSGML kigkonsult.se iCalcreator 2
 .30.10//
CALSCALE:GREGORIAN
METHOD:PUBLISH
UID:b0597312-7419-43c2-970c-090d83afae7c
X-WR-CALDESC:CFI will join many other organizations celebrating the local p
 ark and trails in Chauncey!  We'll share a kids' activity and Discovery Ki
 tchen samples with recipes.
X-WR-RELCALID:88911218d7f209dc0b05623e6ab97722
X-WR-TIMEZONE:America/New_York
BEGIN:VTIMEZONE
TZID:America/New_York
BEGIN:STANDARD
TZNAME:EST
DTSTART:20221106T020000
TZOFFSETFROM:-0400
TZOFFSETTO:-0500
RDATE:20231105T020000
RDATE:20241103T020000
END:STANDARD
BEGIN:DAYLIGHT
TZNAME:EDT
DTSTART:20230312T020000
TZOFFSETFROM:-0500
TZOFFSETTO:-0400
RDATE:20240310T020000
END:DAYLIGHT
END:VTIMEZONE
BEGIN:VEVENT
UID:db14e01b-7656-4af3-8a9c-2b1c9ba55685
DTSTAMP:20260423T101524Z
DESCRIPTION:CFI will join many other organizations celebrating the local pa
 rk and trails in Chauncey!  We'll share a kids' activity and Discovery Kit
 chen samples with recipes.
DTSTART;TZID=America/New_York:20230520T140000
DTEND;TZID=America/New_York:20230520T170000
LOCATION:
SUMMARY:CFI at Chauncey Community Trails Celebration
END:VEVENT
END:VCALENDAR
