BEGIN:VCALENDAR
VERSION:2.0
PRODID:-//communityfoodinitiatives.org//NONSGML kigkonsult.se iCalcreator 2
 .30.10//
CALSCALE:GREGORIAN
METHOD:PUBLISH
UID:07654bd7-b0da-45a7-b23a-188a3563d05b
X-WR-CALDESC:We'll work together on community garden maintenance\, which mi
 ght include weeding\, watering\, planting\, harvesting\, or spreading mulc
 h/compost.
X-WR-RELCALID:959e2b5b2bab82146a61cb3da8e38cdc
X-WR-TIMEZONE:America/New_York
BEGIN:VTIMEZONE
TZID:America/New_York
BEGIN:STANDARD
TZNAME:EST
DTSTART:20221106T020000
TZOFFSETFROM:-0400
TZOFFSETTO:-0500
RDATE:20231105T020000
RDATE:20241103T020000
END:STANDARD
BEGIN:DAYLIGHT
TZNAME:EDT
DTSTART:20230312T020000
TZOFFSETFROM:-0500
TZOFFSETTO:-0400
RDATE:20240310T020000
END:DAYLIGHT
END:VTIMEZONE
BEGIN:VEVENT
UID:1a238ee6-0920-4928-92f9-1887ef8e7bad
DTSTAMP:20260423T101530Z
DESCRIPTION:We'll work together on community garden maintenance\, which mig
 ht include weeding\, watering\, planting\, harvesting\, or spreading mulch
 /compost.
DTSTART;TZID=America/New_York:20230517T160000
DTEND;TZID=America/New_York:20230517T180000
LOCATION:Eastside Community Garden on East State Street behind the Holiday 
 Inn
SUMMARY:Eastside Community Garden Work Party
END:VEVENT
END:VCALENDAR
