BEGIN:VCALENDAR
VERSION:2.0
PRODID:-//communityfoodinitiatives.org//NONSGML kigkonsult.se iCalcreator 2
 .30.10//
CALSCALE:GREGORIAN
METHOD:PUBLISH
UID:fbf053f8-2b25-4b93-9061-cd6426aa9045
X-WR-CALDESC:As part of our annual Garden Giveaways CFI will be distributin
 g free plant starts.  Open to the public\; no sign up is required.  All ar
 e welcome!
X-WR-RELCALID:98688f7039705a2d39b45d6181d0baad
X-WR-TIMEZONE:America/New_York
BEGIN:VTIMEZONE
TZID:America/New_York
BEGIN:STANDARD
TZNAME:EST
DTSTART:20221106T020000
TZOFFSETFROM:-0400
TZOFFSETTO:-0500
RDATE:20231105T020000
RDATE:20241103T020000
END:STANDARD
BEGIN:DAYLIGHT
TZNAME:EDT
DTSTART:20230312T020000
TZOFFSETFROM:-0500
TZOFFSETTO:-0400
RDATE:20240310T020000
END:DAYLIGHT
END:VTIMEZONE
BEGIN:VEVENT
UID:cac11e77-1fde-49ae-81fa-0071c61e6bb5
DTSTAMP:20260423T102429Z
DESCRIPTION:As part of our annual Garden Giveaways CFI will be distributing
  free plant starts.  Open to the public\; no sign up is required.  All are
  welcome!
DTSTART;TZID=America/New_York:20230516T170000
DTEND;TZID=America/New_York:20230516T190000
LOCATION:ACEnet\, 94 Columbus Road\, Athens\, OH 45701
SUMMARY:CFI Plant Start Giveaway
END:VEVENT
END:VCALENDAR
