BEGIN:VCALENDAR
VERSION:2.0
PRODID:-//communityfoodinitiatives.org//NONSGML kigkonsult.se iCalcreator 2
 .30.10//
CALSCALE:GREGORIAN
METHOD:PUBLISH
UID:b505d207-c74b-48de-867e-714465987234
X-WR-CALDESC:Every Saturday (inside the Community Center from December-Marc
 h and in the parking lot under the solar array during the rest of the mont
 hs)\, the Donation Station has a booth at the Athens Farmers Market to col
 lect food and monetary donations from customers\, vendors\, and local comm
 unity gardeners.  Monetary donations are used in turn to purchase fresh fo
 ods from the market vendors\, supporting the local economy.  Vendors also 
 have the opportunity to donate unsold produce at the end of market.  Respo
 nsibilities include weighing/logging donations\, engaging with community m
 embers\, packing produce\, and purchasing produce.  Come prepared to have 
 fun outside at one of Athens' best weekly events!
X-WR-RELCALID:e19e1f1c49447883069a7cc0683f0ec5
X-WR-TIMEZONE:America/New_York
BEGIN:VTIMEZONE
TZID:America/New_York
BEGIN:STANDARD
TZNAME:EST
DTSTART:20221106T020000
TZOFFSETFROM:-0400
TZOFFSETTO:-0500
RDATE:20231105T020000
END:STANDARD
BEGIN:DAYLIGHT
TZNAME:EDT
DTSTART:20230312T020000
TZOFFSETFROM:-0500
TZOFFSETTO:-0400
RDATE:20240310T020000
END:DAYLIGHT
END:VTIMEZONE
BEGIN:VEVENT
UID:930f54d4-5aff-4c7f-9c86-b196f251ef13
DTSTAMP:20260423T103750Z
DESCRIPTION:Every Saturday (inside the Community Center from December-March
  and in the parking lot under the solar array during the rest of the month
 s)\, the Donation Station has a booth at the Athens Farmers Market to coll
 ect food and monetary donations from customers\, vendors\, and local commu
 nity gardeners.  Monetary donations are used in turn to purchase fresh foo
 ds from the market vendors\, supporting the local economy.  Vendors also h
 ave the opportunity to donate unsold produce at the end of market.  Respon
 sibilities include weighing/logging donations\, engaging with community me
 mbers\, packing produce\, and purchasing produce.  Come prepared to have f
 un outside at one of Athens' best weekly events!
DTSTART;TZID=America/New_York:20230503T090000
DTEND;TZID=America/New_York:20230503T120000
LOCATION:Athens Community Center\, Athens\, Ohio
SUMMARY:Donation Station at the Athens Farmers Market
END:VEVENT
END:VCALENDAR
