BEGIN:VCALENDAR
VERSION:2.0
PRODID:-//communityfoodinitiatives.org//NONSGML kigkonsult.se iCalcreator 2
 .30.10//
CALSCALE:GREGORIAN
METHOD:PUBLISH
UID:2798e2cb-ba04-476f-b5e4-f5de37403db2
X-WR-CALDESC:Come celebrate Earth Day with us at a CFI Community Garden Par
 ty!  We'll construct raised beds\, work in the garden\, and share treats a
 t the Hope Drive Community Garden on East State Street in Athens.
X-WR-RELCALID:39f346f50e69f745fb40bad4e792cd3a
X-WR-TIMEZONE:America/New_York
BEGIN:VTIMEZONE
TZID:America/New_York
BEGIN:STANDARD
TZNAME:EST
DTSTART:20221106T020000
TZOFFSETFROM:-0400
TZOFFSETTO:-0500
RDATE:20231105T020000
END:STANDARD
BEGIN:DAYLIGHT
TZNAME:EDT
DTSTART:20230312T020000
TZOFFSETFROM:-0500
TZOFFSETTO:-0400
RDATE:20240310T020000
END:DAYLIGHT
END:VTIMEZONE
BEGIN:VEVENT
UID:1f504310-e297-4c6d-b1df-bb5e6bb1c340
DTSTAMP:20260423T091109Z
DESCRIPTION:Come celebrate Earth Day with us at a CFI Community Garden Part
 y!  We'll construct raised beds\, work in the garden\, and share treats at
  the Hope Drive Community Garden on East State Street in Athens.
DTSTART;TZID=America/New_York:20230427T160000
DTEND;TZID=America/New_York:20230427T183000
LOCATION:Hope Drive Community Garden at Hope Drive Apartments on East State
  Street in Athens
SUMMARY:Hope Drive Earth Day Celebration
END:VEVENT
END:VCALENDAR
