BEGIN:VCALENDAR
VERSION:2.0
PRODID:-//communityfoodinitiatives.org//NONSGML kigkonsult.se iCalcreator 2
 .30.10//
CALSCALE:GREGORIAN
METHOD:PUBLISH
UID:9934e242-c55f-4ba6-a607-c48ecf31a505
X-WR-CALDESC:Come out and try a Discovery Kitchen recipe made by HCOM stude
 nts!  Stop by and pick up a sample and a recipe and sign up to volunteer.
X-WR-RELCALID:3b9734d89b87a3c8748a93a0c04e07e7
X-WR-TIMEZONE:America/New_York
BEGIN:VTIMEZONE
TZID:America/New_York
BEGIN:STANDARD
TZNAME:EST
DTSTART:20221106T020000
TZOFFSETFROM:-0400
TZOFFSETTO:-0500
RDATE:20231105T020000
END:STANDARD
BEGIN:DAYLIGHT
TZNAME:EDT
DTSTART:20230312T020000
TZOFFSETFROM:-0500
TZOFFSETTO:-0400
RDATE:20240310T020000
END:DAYLIGHT
END:VTIMEZONE
BEGIN:VEVENT
UID:df4e27a4-f003-413b-9120-6c5d823f7125
DTSTAMP:20260423T091140Z
DESCRIPTION:Come out and try a Discovery Kitchen recipe made by HCOM studen
 ts!  Stop by and pick up a sample and a recipe and sign up to volunteer.
DTSTART;TZID=America/New_York:20230422T100000
DTEND;TZID=America/New_York:20230422T120000
LOCATION:Heritage Hall Atrium
SUMMARY:HCOM Day of Service Discovery Kitchen at OU
END:VEVENT
END:VCALENDAR
