BEGIN:VCALENDAR
VERSION:2.0
PRODID:-//communityfoodinitiatives.org//NONSGML kigkonsult.se iCalcreator 2
 .30.10//
CALSCALE:GREGORIAN
METHOD:PUBLISH
UID:6dd53413-e639-4dc0-90e7-d232132e9a67
X-WR-CALDESC:Come out and try a Discovery Kitchen recipe made by HCOM stude
 nts!  Pick up a sample and a recipe and sign up to volunteer with CFI!
X-WR-RELCALID:ff5092de5e1f5a39bd555faa18fe56c6
X-WR-TIMEZONE:America/New_York
BEGIN:VTIMEZONE
TZID:America/New_York
BEGIN:STANDARD
TZNAME:EST
DTSTART:20221106T020000
TZOFFSETFROM:-0400
TZOFFSETTO:-0500
RDATE:20231105T020000
END:STANDARD
BEGIN:DAYLIGHT
TZNAME:EDT
DTSTART:20230312T020000
TZOFFSETFROM:-0500
TZOFFSETTO:-0400
RDATE:20240310T020000
END:DAYLIGHT
END:VTIMEZONE
BEGIN:VEVENT
UID:e4750f32-8826-46b9-9cd6-c5fda9795955
DTSTAMP:20260423T091106Z
DESCRIPTION:Come out and try a Discovery Kitchen recipe made by HCOM studen
 ts!  Pick up a sample and a recipe and sign up to volunteer with CFI!
DTSTART;TZID=America/New_York:20230422T100000
DTEND;TZID=America/New_York:20230422T120000
LOCATION:Athens Farmers Market at the Athens Community Center\, Athens\, Oh
 io
SUMMARY:HCOM Day of Service Discovery Kitchen at AFM
END:VEVENT
END:VCALENDAR
