BEGIN:VCALENDAR
VERSION:2.0
PRODID:-//communityfoodinitiatives.org//NONSGML kigkonsult.se iCalcreator 2
 .30.10//
CALSCALE:GREGORIAN
METHOD:PUBLISH
UID:9b2798c5-383f-4cee-8d10-96bc2b531cc1
X-WR-CALDESC:Come out to the Nelsonville Community Garden\, just up the hil
 l from the renovated Mary Hill Center at 1950 Mt Saint Marys Drive in Nels
 onville\, and help us prep the garden for spring!
X-WR-RELCALID:aed0ac948f086fa4e5c354bf4731eab6
X-WR-TIMEZONE:America/New_York
BEGIN:VTIMEZONE
TZID:America/New_York
BEGIN:STANDARD
TZNAME:EST
DTSTART:20221106T020000
TZOFFSETFROM:-0400
TZOFFSETTO:-0500
RDATE:20231105T020000
END:STANDARD
BEGIN:DAYLIGHT
TZNAME:EDT
DTSTART:20230312T020000
TZOFFSETFROM:-0500
TZOFFSETTO:-0400
RDATE:20240310T020000
END:DAYLIGHT
END:VTIMEZONE
BEGIN:VEVENT
UID:2e985c09-6df8-4f27-92c3-7f4e5db1112e
DTSTAMP:20260423T091224Z
DESCRIPTION:Come out to the Nelsonville Community Garden\, just up the hill
  from the renovated Mary Hill Center at 1950 Mt Saint Marys Drive in Nelso
 nville\, and help us prep the garden for spring!
DTSTART;TZID=America/New_York:20230413T150000
DTEND;TZID=America/New_York:20230413T170000
LOCATION:Nelsonville Community Garden in Nelsonville\, 1950 Mt St Marys Dri
 ve\, Nelsonville.
SUMMARY:Nelsonville Community Garden Spring Clean Up
END:VEVENT
END:VCALENDAR
