BEGIN:VCALENDAR
VERSION:2.0
PRODID:-//communityfoodinitiatives.org//NONSGML kigkonsult.se iCalcreator 2
 .30.10//
CALSCALE:GREGORIAN
METHOD:PUBLISH
UID:5d4931ea-6bc9-498a-b9bc-2a25d8e25d59
X-WR-CALDESC:We'll move compost and do other garden-prep activities to get 
 the space ready for spring!
X-WR-RELCALID:6e598509a4ebac964882077cb75b32ed
X-WR-TIMEZONE:America/New_York
BEGIN:VTIMEZONE
TZID:America/New_York
BEGIN:STANDARD
TZNAME:EST
DTSTART:20221106T020000
TZOFFSETFROM:-0400
TZOFFSETTO:-0500
RDATE:20231105T020000
END:STANDARD
BEGIN:DAYLIGHT
TZNAME:EDT
DTSTART:20230312T020000
TZOFFSETFROM:-0500
TZOFFSETTO:-0400
RDATE:20240310T020000
END:DAYLIGHT
END:VTIMEZONE
BEGIN:VEVENT
UID:5a54ccf1-8d02-4193-a306-94fdc99387b4
DTSTAMP:20260423T091138Z
DESCRIPTION:We'll move compost and do other garden-prep activities to get t
 he space ready for spring!
DTSTART;TZID=America/New_York:20230410T150000
DTEND;TZID=America/New_York:20230410T170000
LOCATION:Eastside Community Garden
SUMMARY:Spring Community Garden Cleanup Party
END:VEVENT
END:VCALENDAR
