BEGIN:VCALENDAR
VERSION:2.0
PRODID:-//communityfoodinitiatives.org//NONSGML kigkonsult.se iCalcreator 2
 .30.10//
CALSCALE:GREGORIAN
METHOD:PUBLISH
UID:c28edb89-4f0c-481c-8266-11bb4ac37c8b
X-WR-CALDESC:The Nature Conservancy will be speaking on the topic of Sustai
 nable Agriculture: Mimicking Nature and Promoting Community.  Come out for
  this exciting session\, part of the mini-summit series hosted by the Farm
  to Ohio Working Group.  Open to the public.
X-WR-RELCALID:c35d75ec5b1906b5c89733b2fb91f0fc
X-WR-TIMEZONE:America/New_York
BEGIN:VTIMEZONE
TZID:America/New_York
BEGIN:STANDARD
TZNAME:EST
DTSTART:20221106T020000
TZOFFSETFROM:-0400
TZOFFSETTO:-0500
RDATE:20231105T020000
END:STANDARD
BEGIN:DAYLIGHT
TZNAME:EDT
DTSTART:20230312T020000
TZOFFSETFROM:-0500
TZOFFSETTO:-0400
RDATE:20240310T020000
END:DAYLIGHT
END:VTIMEZONE
BEGIN:VEVENT
UID:1f9f2c2f-9d15-498c-a002-02bb478740f5
DTSTAMP:20260423T075708Z
DESCRIPTION:The Nature Conservancy will be speaking on the topic of Sustain
 able Agriculture: Mimicking Nature and Promoting Community.  Come out for 
 this exciting session\, part of the mini-summit series hosted by the Farm 
 to Ohio Working Group.  Open to the public.
DTSTART;TZID=America/New_York:20230330T163000
DTEND;TZID=America/New_York:20230330T173000
LOCATION:Baker 231 at Ohio University\, Athens\, Ohio
SUMMARY:Farm to Ohio Working Group Mini Summit
END:VEVENT
END:VCALENDAR
