BEGIN:VCALENDAR
VERSION:2.0
PRODID:-//communityfoodinitiatives.org//NONSGML kigkonsult.se iCalcreator 2
 .30.10//
CALSCALE:GREGORIAN
METHOD:PUBLISH
UID:6822e817-7e34-4c88-b788-a50c7f2cc684
X-WR-CALDESC:CFI will be sharing samples of a recipe featuring seasonal pro
 duce along with recipe cards!  We'll also have information about CFI and v
 olunteer opportunities.
X-WR-RELCALID:acabec80f5e39d485ba4ade519cf74c2
X-WR-TIMEZONE:America/New_York
BEGIN:VTIMEZONE
TZID:America/New_York
BEGIN:STANDARD
TZNAME:EST
DTSTART:20221106T020000
TZOFFSETFROM:-0400
TZOFFSETTO:-0500
RDATE:20231105T020000
END:STANDARD
BEGIN:DAYLIGHT
TZNAME:EDT
DTSTART:20230312T020000
TZOFFSETFROM:-0500
TZOFFSETTO:-0400
RDATE:20240310T020000
END:DAYLIGHT
END:VTIMEZONE
BEGIN:VEVENT
UID:1dc534c7-976c-4051-812e-ea45b4b9a355
DTSTAMP:20260423T082352Z
DESCRIPTION:CFI will be sharing samples of a recipe featuring seasonal prod
 uce along with recipe cards!  We'll also have information about CFI and vo
 lunteer opportunities.
DTSTART;TZID=America/New_York:20230329T110000
DTEND;TZID=America/New_York:20230329T130000
LOCATION:Nelson Court at OU
SUMMARY:Discovery Kitchen Tasting Table at OU
END:VEVENT
END:VCALENDAR
